BEGIN:VCALENDAR
VERSION:2.0
PRODID:-//Sportverein Achsheim e. V. - ECPv6.15.20//NONSGML v1.0//EN
CALSCALE:GREGORIAN
METHOD:PUBLISH
X-ORIGINAL-URL:https://www.sv-achsheim.de
X-WR-CALDESC:Veranstaltungen für Sportverein Achsheim e. V.
REFRESH-INTERVAL;VALUE=DURATION:PT1H
X-Robots-Tag:noindex
X-PUBLISHED-TTL:PT1H
BEGIN:VTIMEZONE
TZID:Europe/Berlin
BEGIN:DAYLIGHT
TZOFFSETFROM:+0100
TZOFFSETTO:+0200
TZNAME:CEST
DTSTART:20250330T010000
END:DAYLIGHT
BEGIN:STANDARD
TZOFFSETFROM:+0200
TZOFFSETTO:+0100
TZNAME:CET
DTSTART:20251026T010000
END:STANDARD
BEGIN:DAYLIGHT
TZOFFSETFROM:+0100
TZOFFSETTO:+0200
TZNAME:CEST
DTSTART:20260329T010000
END:DAYLIGHT
BEGIN:STANDARD
TZOFFSETFROM:+0200
TZOFFSETTO:+0100
TZNAME:CET
DTSTART:20261025T010000
END:STANDARD
BEGIN:DAYLIGHT
TZOFFSETFROM:+0100
TZOFFSETTO:+0200
TZNAME:CEST
DTSTART:20270328T010000
END:DAYLIGHT
BEGIN:STANDARD
TZOFFSETFROM:+0200
TZOFFSETTO:+0100
TZNAME:CET
DTSTART:20271031T010000
END:STANDARD
END:VTIMEZONE
BEGIN:VEVENT
DTSTART;TZID=Europe/Berlin:20260423T193000
DTEND;TZID=Europe/Berlin:20260423T220000
DTSTAMP:20260421T152150
CREATED:20260319T144208Z
LAST-MODIFIED:20260401T170022Z
UID:1204-1776972600-1776981600@www.sv-achsheim.de
SUMMARY:JHV Hauptverein 2026
DESCRIPTION:Einladung Jahreshaupt 2026\n\n\n\n\nEinladung Jahreshauptversammlung 2026
URL:https://www.sv-achsheim.de/event/jhv-hauptverein-2026/
LOCATION:Sportheim Achsheim\, Kellerberg 5\, Achsheim\, 86462\, Deutschland
END:VEVENT
END:VCALENDAR